BEGIN:VCALENDAR
VERSION:2.0
PRODID:-//Horizon Europe - ECPv6.15.20//NONSGML v1.0//EN
CALSCALE:GREGORIAN
METHOD:PUBLISH
X-ORIGINAL-URL:https://horizoneurope.ie
X-WR-CALDESC:Events for Horizon Europe
REFRESH-INTERVAL;VALUE=DURATION:PT1H
X-Robots-Tag:noindex
X-PUBLISHED-TTL:PT1H
BEGIN:VTIMEZONE
TZID:Europe/Dublin
BEGIN:STANDARD
TZOFFSETFROM:+0000
TZOFFSETTO:+0100
TZNAME:IST
DTSTART:20240331T010000
END:STANDARD
BEGIN:DAYLIGHT
TZOFFSETFROM:+0100
TZOFFSETTO:+0000
TZNAME:GMT
DTSTART:20241027T010000
END:DAYLIGHT
BEGIN:STANDARD
TZOFFSETFROM:+0000
TZOFFSETTO:+0100
TZNAME:IST
DTSTART:20250330T010000
END:STANDARD
BEGIN:DAYLIGHT
TZOFFSETFROM:+0100
TZOFFSETTO:+0000
TZNAME:GMT
DTSTART:20251026T010000
END:DAYLIGHT
BEGIN:STANDARD
TZOFFSETFROM:+0000
TZOFFSETTO:+0100
TZNAME:IST
DTSTART:20260329T010000
END:STANDARD
BEGIN:DAYLIGHT
TZOFFSETFROM:+0100
TZOFFSETTO:+0000
TZNAME:GMT
DTSTART:20261025T010000
END:DAYLIGHT
END:VTIMEZONE
BEGIN:VEVENT
DTSTART;VALUE=DATE:20251014
DTEND;VALUE=DATE:20251015
DTSTAMP:20260424T100839
CREATED:20250710T160952Z
LAST-MODIFIED:20251009T120556Z
UID:9306-1760400000-1760486399@horizoneurope.ie
SUMMARY:SMART PO Proposers' Day - 9th Call
DESCRIPTION:The Eureka SMART Cluster is an industry-driven initiative\, focused on advanced manufacturing. Its mission is to enhance the competitiveness\, growth\, and sustainability of discrete manufacturing industries through collaborative\, international research\, development and innovation projects. \nSMART has launched a new call for proposals with a deadline for submission on the 22nd January 2026. \nIn advance\, Eureka and Enterprise Ireland are hosting a Project Outline (PO) proposers day. If you have an Innovative project idea related to advanced manufacturing and want to form an international consortium to develop it\, come and join us at the face-to-face event on the 14th of October at the Enterprise Ireland offices at Eastpoint in Dublin. \nThe event will give you a chance to pitch your idea to an audience from a variety of backgrounds\, including industry\, academia\, research centres and national funding agencies. \nFurther information and why you should participate\, search for partners etc.\, all information is available here. \n     
URL:https://horizoneurope.ie/event/smart-po-proposers-day-9th-call
LOCATION:Enterprise Ireland\, The Plaza\, Eastpoint Business Park\, Fairview\, D03 E5R6\, Dublin\, Ireland
CATEGORIES:COST and EUREKA
ATTACH;FMTTYPE=image/png:https://horizoneurope.ie/wp-content/uploads/2025/07/Proposers-Day-EUREKA-SMART-PO-Image.png
END:VEVENT
END:VCALENDAR