BEGIN:VCALENDAR
VERSION:2.0
PRODID:-//Horizon Europe - ECPv6.15.20//NONSGML v1.0//EN
CALSCALE:GREGORIAN
METHOD:PUBLISH
X-WR-CALNAME:Horizon Europe
X-ORIGINAL-URL:https://horizoneurope.ie
X-WR-CALDESC:Events for Horizon Europe
REFRESH-INTERVAL;VALUE=DURATION:PT1H
X-Robots-Tag:noindex
X-PUBLISHED-TTL:PT1H
BEGIN:VTIMEZONE
TZID:Europe/Dublin
BEGIN:STANDARD
TZOFFSETFROM:+0000
TZOFFSETTO:+0100
TZNAME:IST
DTSTART:20240331T010000
END:STANDARD
BEGIN:DAYLIGHT
TZOFFSETFROM:+0100
TZOFFSETTO:+0000
TZNAME:GMT
DTSTART:20241027T010000
END:DAYLIGHT
BEGIN:STANDARD
TZOFFSETFROM:+0000
TZOFFSETTO:+0100
TZNAME:IST
DTSTART:20250330T010000
END:STANDARD
BEGIN:DAYLIGHT
TZOFFSETFROM:+0100
TZOFFSETTO:+0000
TZNAME:GMT
DTSTART:20251026T010000
END:DAYLIGHT
BEGIN:STANDARD
TZOFFSETFROM:+0000
TZOFFSETTO:+0100
TZNAME:IST
DTSTART:20260329T010000
END:STANDARD
BEGIN:DAYLIGHT
TZOFFSETFROM:+0100
TZOFFSETTO:+0000
TZNAME:GMT
DTSTART:20261025T010000
END:DAYLIGHT
END:VTIMEZONE
BEGIN:VEVENT
DTSTART;VALUE=DATE:20251010
DTEND;VALUE=DATE:20251011
DTSTAMP:20260424T214636
CREATED:20250925T153155Z
LAST-MODIFIED:20250925T153155Z
UID:9515-1760054400-1760140799@horizoneurope.ie
SUMMARY:Europe's Rail Info Day 2025
DESCRIPTION:Invitations are open for you to participate in the upcoming Info Day on 10 October 2025. \nThe online event will provide an overview of the objectives of the Europe’s Rail Research and Innovation Programme and will highlight opportunities for involvement in making rail a more attractive mode of transport for both passengers and businesses across Europe. Participants will also learn about Europe’s Rail funding opportunities under Europe’s Rail Call for Proposals 2025-02. \nWhat to Expect: \n\nA detailed overview of this year’s destinations; covering key areas such as automated train operations\, regional rail services and green freight.\nGuidance on the legal and financial aspects of proposal submission.\nNetworking with potential partners during the dedicated match-making sessions.\nA live Q&A session with EU-Rail experts to address your questions directly.\n\nThe Europe’s Rail JU Call for project proposals 2025-02 will be open from 8 October 2025 and will close on 11 February 2026. \n  \n 
URL:https://horizoneurope.ie/event/europes-rail-info-day-2025
LOCATION:Online
CATEGORIES:Cluster 5 Climate, Energy and Mobility
ATTACH;FMTTYPE=image/jpeg:https://horizoneurope.ie/wp-content/uploads/2025/09/Europes-Rail-Image.jpg
END:VEVENT
BEGIN:VEVENT
DTSTART;VALUE=DATE:20251023
DTEND;VALUE=DATE:20251025
DTSTAMP:20260424T214636
CREATED:20251008T135838Z
LAST-MODIFIED:20251028T125945Z
UID:9529-1761177600-1761350399@horizoneurope.ie
SUMMARY:ALICE Logistics Innovation Summit
DESCRIPTION:ALICE\, the European Technology Platform for logistics will hold the ALICE Logistics Innovation Summit 2025 in Brussels on the 23-24th October 2025. This two-day event will bring together stakeholders from across the freight transport and logistics ecosystem to exchange knowledge\, showcase innovations\, explore the most pressing challenges and opportunities in the logistics sector in Europe and beyond. \nThe 2025 edition will take place on 23-24 October at the Tangla Hotel (Brussels) under the theme: “Freight transport and logistics innovation for a competitive Europe”.
URL:https://horizoneurope.ie/event/alice-logistics-innovation-summit
LOCATION:Tangla Hotel Brussels
CATEGORIES:Cluster 5 Climate, Energy and Mobility
ATTACH;FMTTYPE=image/jpeg:https://horizoneurope.ie/wp-content/uploads/2025/10/EU_ALICE2-fv-for-web.jpg
END:VEVENT
END:VCALENDAR