BEGIN:VCALENDAR
VERSION:2.0
PRODID:-//Horizon Europe - ECPv6.15.20//NONSGML v1.0//EN
CALSCALE:GREGORIAN
METHOD:PUBLISH
X-ORIGINAL-URL:https://horizoneurope.ie
X-WR-CALDESC:Events for Horizon Europe
REFRESH-INTERVAL;VALUE=DURATION:PT1H
X-Robots-Tag:noindex
X-PUBLISHED-TTL:PT1H
BEGIN:VTIMEZONE
TZID:Europe/Dublin
BEGIN:STANDARD
TZOFFSETFROM:+0000
TZOFFSETTO:+0100
TZNAME:IST
DTSTART:20240331T010000
END:STANDARD
BEGIN:DAYLIGHT
TZOFFSETFROM:+0100
TZOFFSETTO:+0000
TZNAME:GMT
DTSTART:20241027T010000
END:DAYLIGHT
BEGIN:STANDARD
TZOFFSETFROM:+0000
TZOFFSETTO:+0100
TZNAME:IST
DTSTART:20250330T010000
END:STANDARD
BEGIN:DAYLIGHT
TZOFFSETFROM:+0100
TZOFFSETTO:+0000
TZNAME:GMT
DTSTART:20251026T010000
END:DAYLIGHT
BEGIN:STANDARD
TZOFFSETFROM:+0000
TZOFFSETTO:+0100
TZNAME:IST
DTSTART:20260329T010000
END:STANDARD
BEGIN:DAYLIGHT
TZOFFSETFROM:+0100
TZOFFSETTO:+0000
TZNAME:GMT
DTSTART:20261025T010000
END:DAYLIGHT
END:VTIMEZONE
BEGIN:VEVENT
DTSTART;VALUE=DATE:20251112
DTEND;VALUE=DATE:20251115
DTSTAMP:20260424T164745
CREATED:20250710T152431Z
LAST-MODIFIED:20251112T101428Z
UID:9294-1762905600-1763164799@horizoneurope.ie
SUMMARY:European Big Data Value Forum
DESCRIPTION:The sixth edition of this flagship event of the European Commission will bring together policymakers\, researchers\, business leaders and the wider innovation community to discuss how research and innovation drives Europe’s competitiveness\, sustainability and industrial leadership\, underpinning the EU’s top priorities. \nThis year’s edition\, “Together\, towards a Research and Innovation Union”\, will come at a pivotal moment of discussions on the EU’s next long-term budget and key policy actions such as the Startup and Scaleup Strategy\, the European Life Sciences Strategy\, the AI in Science Strategy and the European Innovation and European Research Area Acts. Join us for high-level discussions\, engaging panels and networking opportunities that will shape the future of EU research and innovation. \nThe EBDVF 2025 is organised by the Big Data Value Association (BDVA)\, in collaboration with DTU – Technical University of Denmark and SDU – University of Southern Denmark. \n 
URL:https://horizoneurope.ie/event/european-big-data-value-forum
LOCATION:DGI Byen\, Tietgensgade 65 1704 København V\, Copenhagen\, Denmark
CATEGORIES:Cluster 4 Digital, Industry and Space,Horizon Europe
ATTACH;FMTTYPE=image/png:https://horizoneurope.ie/wp-content/uploads/2025/07/European-Big-Data-aValue-Forum-image-2025.png
END:VEVENT
END:VCALENDAR