BEGIN:VCALENDAR
VERSION:2.0
PRODID:-//Horizon Europe - ECPv6.15.20//NONSGML v1.0//EN
CALSCALE:GREGORIAN
METHOD:PUBLISH
X-ORIGINAL-URL:https://horizoneurope.ie
X-WR-CALDESC:Events for Horizon Europe
REFRESH-INTERVAL;VALUE=DURATION:PT1H
X-Robots-Tag:noindex
X-PUBLISHED-TTL:PT1H
BEGIN:VTIMEZONE
TZID:Europe/Dublin
BEGIN:STANDARD
TZOFFSETFROM:+0000
TZOFFSETTO:+0100
TZNAME:IST
DTSTART:20240331T010000
END:STANDARD
BEGIN:DAYLIGHT
TZOFFSETFROM:+0100
TZOFFSETTO:+0000
TZNAME:GMT
DTSTART:20241027T010000
END:DAYLIGHT
BEGIN:STANDARD
TZOFFSETFROM:+0000
TZOFFSETTO:+0100
TZNAME:IST
DTSTART:20250330T010000
END:STANDARD
BEGIN:DAYLIGHT
TZOFFSETFROM:+0100
TZOFFSETTO:+0000
TZNAME:GMT
DTSTART:20251026T010000
END:DAYLIGHT
BEGIN:STANDARD
TZOFFSETFROM:+0000
TZOFFSETTO:+0100
TZNAME:IST
DTSTART:20260329T010000
END:STANDARD
BEGIN:DAYLIGHT
TZOFFSETFROM:+0100
TZOFFSETTO:+0000
TZNAME:GMT
DTSTART:20261025T010000
END:DAYLIGHT
END:VTIMEZONE
BEGIN:VEVENT
DTSTART;VALUE=DATE:20251202
DTEND;VALUE=DATE:20251204
DTSTAMP:20260424T144017
CREATED:20251008T141307Z
LAST-MODIFIED:20251112T101323Z
UID:9535-1764633600-1764806399@horizoneurope.ie
SUMMARY:Battery Innovation Days - Graz\, Austria
DESCRIPTION:The fifth edition of the Battery Innovation Days (BID) will take place on 2-3 December 2025 in Graz\, Austria and online. The event is a unique 2-day hybrid experience designed to spark conversations on the latest developments in the European R&I Battery domain among the research community\, policymakers\, industry players and end-users to boost battery research and innovation in Europe. BID aims to increase knowledge and encourage exchange around the deployment of cutting-edge technologies in battery materials\, cell design\, manufacturing and recycling.
URL:https://horizoneurope.ie/event/battery-innovation-days-graz-austria
LOCATION:Graz\, Austria
CATEGORIES:Cluster 5 Climate, Energy and Mobility,Horizon Europe
ATTACH;FMTTYPE=image/jpeg:https://horizoneurope.ie/wp-content/uploads/2025/10/battery-innovation-days-web.jpg
END:VEVENT
BEGIN:VEVENT
DTSTART;VALUE=DATE:20251202
DTEND;VALUE=DATE:20251205
DTSTAMP:20260424T144017
CREATED:20251112T090917Z
LAST-MODIFIED:20251112T094719Z
UID:9728-1764633600-1764892799@horizoneurope.ie
SUMMARY:Water Knowledge Europe returns to Brussels
DESCRIPTION:From 2 to 4 December 2025\, Water Knowledge Europe – Winter Edition will take place in Brussels\, bringing together Europe’s water community for three days of collaboration\, innovation\, and networking. As the final Horizon Europe Work Programme (2026–2027) approaches\, this edition comes at a decisive moment for shaping the future of European water research and innovation. Join us to build partnerships and consortia that will define the next wave of EU-funded water projects. \n5 Reasons to join WKE2025: \nExplore the latest Horizon Europe 2026–2027 calls and funding priorities from the European Commission;\nPresent new project ideas in dedicated pitching sessions;\nLearn from successful EU projects and best practices in water innovation;\nDiscover additional funding opportunities beyond Horizon Europe;\nParticipate in B2B matchmaking sessions to build strong and competitive consortia. \nWKE is more than a conference: it’s where ideas become partnerships\, and partnerships become projects. \n 
URL:https://horizoneurope.ie/event/water-knowledge-europe-returns-to-brussels
LOCATION:Thon Hotel EU\, Wetstraat/Rue de la loi 75\, Brussels\, 1040\, Belgium
CATEGORIES:Cluster 5 Climate, Energy and Mobility,Horizon Europe
ATTACH;FMTTYPE=image/png:https://horizoneurope.ie/wp-content/uploads/2025/11/WKE-Banners-1.png
END:VEVENT
BEGIN:VEVENT
DTSTART;VALUE=DATE:20251215
DTEND;VALUE=DATE:20251218
DTSTAMP:20260424T144017
CREATED:20251112T092604Z
LAST-MODIFIED:20251112T094052Z
UID:9738-1765756800-1766015999@horizoneurope.ie
SUMMARY:EU Agri-Food Days 2025 - Securing Europe's Food and Agriculture
DESCRIPTION:Join us for the 3rd edition of the EU Agri-Food Days on 15 – 17 December 2025 in Brussels. \nThis three-day event will offer you the opportunity to network with EU agri-food stakeholders\, farmers\, civil society\, academia and policymakers. Be at the heart of discussions about the latest policy trends\, challenges and opportunities in the EU agri-food sector. \nThe EU Agri-Food Days conference also features an exhibition on research projects\, key agricultural data portals and funding opportunities. \n\n\n\n\nLive web stream available: 15 – 17 December 2025\nNo prior registration is needed for online attendance\n\n\nSocial media: #EUAgriFoodDays \n\n\n\n\n\n\nAbout the EU Agri-Food Days\n\n\nThe EU Agri-Food Days are the forum for stakeholders to discuss the outlook of European agriculture\, agricultural market trends\, food security\, sustainability\, digital technologies and data flows together with farmers\, EU policy makers\, civil society\, business representatives\, analysts and digital experts. \nThis annual conference also offers the opportunity to participants to reflect on current and upcoming challenges in the European agri-food sector.
URL:https://horizoneurope.ie/event/9738
CATEGORIES:Cluster 6 Food, Bioeconomy, Natural Resources, Agriculture and Environment,European Commission,Horizon Europe
ATTACH;FMTTYPE=image/png:https://horizoneurope.ie/wp-content/uploads/2025/11/agri-food-days-social-media_1200x675_0.png
END:VEVENT
END:VCALENDAR