BEGIN:VCALENDAR
VERSION:2.0
PRODID:-//Horizon Europe - ECPv6.15.20//NONSGML v1.0//EN
CALSCALE:GREGORIAN
METHOD:PUBLISH
X-WR-CALNAME:Horizon Europe
X-ORIGINAL-URL:https://horizoneurope.ie
X-WR-CALDESC:Events for Horizon Europe
REFRESH-INTERVAL;VALUE=DURATION:PT1H
X-Robots-Tag:noindex
X-PUBLISHED-TTL:PT1H
BEGIN:VTIMEZONE
TZID:Europe/Dublin
BEGIN:STANDARD
TZOFFSETFROM:+0000
TZOFFSETTO:+0100
TZNAME:IST
DTSTART:20250330T010000
END:STANDARD
BEGIN:DAYLIGHT
TZOFFSETFROM:+0100
TZOFFSETTO:+0000
TZNAME:GMT
DTSTART:20251026T010000
END:DAYLIGHT
BEGIN:STANDARD
TZOFFSETFROM:+0000
TZOFFSETTO:+0100
TZNAME:IST
DTSTART:20260329T010000
END:STANDARD
BEGIN:DAYLIGHT
TZOFFSETFROM:+0100
TZOFFSETTO:+0000
TZNAME:GMT
DTSTART:20261025T010000
END:DAYLIGHT
BEGIN:STANDARD
TZOFFSETFROM:+0000
TZOFFSETTO:+0100
TZNAME:IST
DTSTART:20270328T010000
END:STANDARD
BEGIN:DAYLIGHT
TZOFFSETFROM:+0100
TZOFFSETTO:+0000
TZNAME:GMT
DTSTART:20271031T010000
END:DAYLIGHT
END:VTIMEZONE
BEGIN:VEVENT
DTSTART;VALUE=DATE:20260302
DTEND;VALUE=DATE:20260307
DTSTAMP:20260425T125533
CREATED:20260212T114813Z
LAST-MODIFIED:20260212T114813Z
UID:10175-1772409600-1772841599@horizoneurope.ie
SUMMARY:European Ocean Days – 2nd and 6th March 2026
DESCRIPTION:The European Ocean Days is a week-long event with a series of dynamic and interconnected sessions focused on key ocean-related themes\, all designed to encourage participants to engage across topics and contribute to a shared vision for the prosperity\, competitiveness\, security and sustainability of our ocean. \nRegister here.
URL:https://horizoneurope.ie/event/european-ocean-days-2nd-and-6th-march-2026
ATTACH;FMTTYPE=image/jpeg:https://horizoneurope.ie/wp-content/uploads/2026/02/Screenshot_12-2-2026_114626_www.b2match.com_.jpeg
END:VEVENT
BEGIN:VEVENT
DTSTART;VALUE=DATE:20260323
DTEND;VALUE=DATE:20260328
DTSTAMP:20260425T125533
CREATED:20251112T101236Z
LAST-MODIFIED:20251112T101236Z
UID:9755-1774224000-1774655999@horizoneurope.ie
SUMMARY:European Robotics Forum 2026
DESCRIPTION:The European Robotics Forum (ERF) is the leading event for the European robotics and AI community\, bringing together over 1\,000 participants from industry\, academia\, and the public sector. Held annually in a different European city\, ERF is the go-to platform to explore cutting-edge technologies\, foster collaboration\, and address the latest challenges and trends shaping the future of robotics in Europe.
URL:https://horizoneurope.ie/event/european-robotics-forum-2026
CATEGORIES:Cluster 4 Digital, Industry and Space
ATTACH;FMTTYPE=image/png:https://horizoneurope.ie/wp-content/uploads/2025/11/ERF-Logo-2026-square.png
END:VEVENT
BEGIN:VEVENT
DTSTART;TZID=Europe/Dublin:20260326T083000
DTEND;TZID=Europe/Dublin:20260326T083000
DTSTAMP:20260425T125533
CREATED:20260311T164338Z
LAST-MODIFIED:20260311T164427Z
UID:10288-1774513800-1774513800@horizoneurope.ie
SUMMARY:Horizon Europe Info Days - Cluster 2: Culture\, Creativity and Inclusive Society
DESCRIPTION:Are you interested in research & innovation funding opportunities under Horizon Europe Cluster 2? This information day aims to inform (potential) applicants about the 2026 topics included in the Cluster 2 ‘Culture\, Creativity and Inclusive Society’ work programme 2026-2027.
URL:https://horizoneurope.ie/event/horizon-europe-info-days-cluster-2-culture-creativity-and-inclusive-society
CATEGORIES:Cluster 2 Culture, Creativity and Inclusive Society
ATTACH;FMTTYPE=image/png:https://horizoneurope.ie/wp-content/uploads/2026/03/H.png
END:VEVENT
BEGIN:VEVENT
DTSTART;TZID=Europe/Dublin:20260326T100000
DTEND;TZID=Europe/Dublin:20260326T110000
DTSTAMP:20260425T125533
CREATED:20260312T095117Z
LAST-MODIFIED:20260312T095307Z
UID:10296-1774519200-1774522800@horizoneurope.ie
SUMMARY:Booster Info Session: Free Guidance for EU-Funded Research Results (26 March 2026)
DESCRIPTION:Are you looking to boost your project’s impact? Join our info session for an overview of Booster’s free-of-charge\, expert-led and personalised services\, followed by a Q&A with our Booster expert. \nThe European Commission Directorate-General for Research and Innovation is organising an info session to present Booster’s services. \nBooster offers free-of-charge services to support EU-funded projects in their journey from results to impact. \nJoin the info session dedicated to Booster for a global overview of what the set of services includes\, more information about the expert guidance that can be expected\, how services are delivered\, and also real-world experiences shared by a Booster beneficiary and their Booster expert.
URL:https://horizoneurope.ie/event/booster-info-session-free-guidance-for-eu-funded-research-results-26-march-2026
LOCATION:Online
CATEGORIES:European Commission
ATTACH;FMTTYPE=image/png:https://horizoneurope.ie/wp-content/uploads/2026/03/Booster.png
END:VEVENT
END:VCALENDAR