BEGIN:VCALENDAR
VERSION:2.0
PRODID:-//Horizon Europe - ECPv6.15.20//NONSGML v1.0//EN
CALSCALE:GREGORIAN
METHOD:PUBLISH
X-WR-CALNAME:Horizon Europe
X-ORIGINAL-URL:https://horizoneurope.ie
X-WR-CALDESC:Events for Horizon Europe
REFRESH-INTERVAL;VALUE=DURATION:PT1H
X-Robots-Tag:noindex
X-PUBLISHED-TTL:PT1H
BEGIN:VTIMEZONE
TZID:Europe/Dublin
BEGIN:STANDARD
TZOFFSETFROM:+0000
TZOFFSETTO:+0100
TZNAME:IST
DTSTART:20240331T010000
END:STANDARD
BEGIN:DAYLIGHT
TZOFFSETFROM:+0100
TZOFFSETTO:+0000
TZNAME:GMT
DTSTART:20241027T010000
END:DAYLIGHT
BEGIN:STANDARD
TZOFFSETFROM:+0000
TZOFFSETTO:+0100
TZNAME:IST
DTSTART:20250330T010000
END:STANDARD
BEGIN:DAYLIGHT
TZOFFSETFROM:+0100
TZOFFSETTO:+0000
TZNAME:GMT
DTSTART:20251026T010000
END:DAYLIGHT
BEGIN:STANDARD
TZOFFSETFROM:+0000
TZOFFSETTO:+0100
TZNAME:IST
DTSTART:20260329T010000
END:STANDARD
BEGIN:DAYLIGHT
TZOFFSETFROM:+0100
TZOFFSETTO:+0000
TZNAME:GMT
DTSTART:20261025T010000
END:DAYLIGHT
END:VTIMEZONE
BEGIN:VEVENT
DTSTART;TZID=Europe/Dublin:20251203T080000
DTEND;TZID=Europe/Dublin:20251204T170000
DTSTAMP:20260424T140458
CREATED:20251009T161825Z
LAST-MODIFIED:20251028T101126Z
UID:9546-1764748800-1764867600@horizoneurope.ie
SUMMARY:EFECS – the European Forum for Electronic Components and Systems
DESCRIPTION:The next edition of EFECS – the European Forum for Electronic Components and Systems\, will take place in Malta\, on December 3–4\, 2025\, at the Hilton Hotel in St. Julian’s – the very same place where the journey began with the 1st ECSEL Symposium 2017 that set the course for the ECS community in Europe. \nThis year’s theme\, Accelerate Innovation: Building European Competitiveness\, puts the spotlight on value chain security\, sustainability\, and emerging market opportunities\, all in the context of Europe’s strategic drive for technological sovereignty. \n  \n 
URL:https://horizoneurope.ie/event/efecs-the-european-forum-for-electronic-components-and-systems
LOCATION:Hilton Hotel Malta\, Malta
CATEGORIES:Cluster 4 Digital, Industry and Space
ATTACH;FMTTYPE=image/jpeg:https://horizoneurope.ie/wp-content/uploads/2025/10/EFECS-Malta-2025-Image.jpg
END:VEVENT
END:VCALENDAR